<?xml version="1.0" encoding="utf-8"?>
	<TileMap version="1.0.0" tilemapservice="http://tms.osgeo.org/1.0.0">
	  <Title>Bath 1891</Title>
	  <Abstract></Abstract>
	  <SRS>EPSG:900913</SRS>
	  <BoundingBox minx="51.37079760340828" miny="-2.38982230085661" maxx="51.39919189594100" maxy="-2.33223472720662"/>
	  <Origin x="51.37079760340828" y="-2.38982230085661"/>
	  <TileFormat width="256" height="256" mime-type="image/png" extension="png"/>
	  <TileSets profile="mercator">
	    <TileSet href="https://maps.bathhacked.org/maps/1891/12" units-per-pixel="38.21851413574219" order="12"/>
	    <TileSet href="https://maps.bathhacked.org/maps/1891/13" units-per-pixel="19.10925706787109" order="13"/>
	    <TileSet href="https://maps.bathhacked.org/maps/1891/14" units-per-pixel="9.55462853393555" order="14"/>
	    <TileSet href="https://maps.bathhacked.org/maps/1891/15" units-per-pixel="4.77731426696777" order="15"/>
	  </TileSets>
	</TileMap>
	